BEGIN:VCALENDAR
VERSION:2.0
PRODID:-//North Olympic History Center - ECPv6.15.17//NONSGML v1.0//EN
CALSCALE:GREGORIAN
METHOD:PUBLISH
X-WR-CALNAME:North Olympic History Center
X-ORIGINAL-URL:https://northolympichistory.org
X-WR-CALDESC:Events for North Olympic History Center
REFRESH-INTERVAL;VALUE=DURATION:PT1H
X-Robots-Tag:noindex
X-PUBLISHED-TTL:PT1H
BEGIN:VTIMEZONE
TZID:America/Los_Angeles
BEGIN:DAYLIGHT
TZOFFSETFROM:-0800
TZOFFSETTO:-0700
TZNAME:PDT
DTSTART:20230312T100000
END:DAYLIGHT
BEGIN:STANDARD
TZOFFSETFROM:-0700
TZOFFSETTO:-0800
TZNAME:PST
DTSTART:20231105T090000
END:STANDARD
BEGIN:DAYLIGHT
TZOFFSETFROM:-0800
TZOFFSETTO:-0700
TZNAME:PDT
DTSTART:20240310T100000
END:DAYLIGHT
BEGIN:STANDARD
TZOFFSETFROM:-0700
TZOFFSETTO:-0800
TZNAME:PST
DTSTART:20241103T090000
END:STANDARD
BEGIN:DAYLIGHT
TZOFFSETFROM:-0800
TZOFFSETTO:-0700
TZNAME:PDT
DTSTART:20250309T100000
END:DAYLIGHT
BEGIN:STANDARD
TZOFFSETFROM:-0700
TZOFFSETTO:-0800
TZNAME:PST
DTSTART:20251102T090000
END:STANDARD
END:VTIMEZONE
BEGIN:VEVENT
DTSTART;VALUE=DATE:20240608
DTEND;VALUE=DATE:20240610
DTSTAMP:20260421T115321
CREATED:20240529T175651Z
LAST-MODIFIED:20240529T175841Z
UID:44357722-1717804800-1717977599@northolympichistory.org
SUMMARY:Port Angeles Maritime Festival
DESCRIPTION:For a full list of events\, visit the Maritime Festival website here.
URL:https://northolympichistory.org/event/port-angeles-maritime-festival/
LOCATION:Maritime Festival\, 830 W. Boathaven Dr.\, Port Angeles\, WA
CATEGORIES:General Public
ATTACH;FMTTYPE=image/jpeg:https://northolympichistory.org/wp-content/uploads/2024/05/maritime-festival.jpg
END:VEVENT
END:VCALENDAR